BEGIN:VCALENDAR
VERSION:2.0
PRODID:-//wp-events-plugin.com//7.2.3.1//EN
TZID:Europe/Paris
X-WR-TIMEZONE:Europe/Paris
BEGIN:VEVENT
UID:0-150@docteurimago.fr
DTSTART;TZID=Europe/Paris;VALUE=DATE:20260529
DTEND;TZID=Europe/Paris;VALUE=DATE:20260601
DTSTAMP:20260302T132155Z
URL:https://docteurimago.fr/services/agenda/15es-journees-francophones-dim
 agerie-cardiovasculaire/
SUMMARY:15es Journées francophones d'imagerie cardiovasculaire
DESCRIPTION:La Société française d'imagerie cardiaque et vasculaire (SFI
 CV) tiendra la quinzième édition de ses Journées francophones d'imageri
 e cardiovasculaire (JFICV) du 29 au 31 mai 2026 à Lille (59). Renseigneme
 nts et inscriptions sur le site de la SFICV.
CATEGORIES:Congrès
LOCATION:Lille Grand Palais\, 1\, boulevard des Cités-Unies\, Lille\, Nord
 \, 59000\, Hauts-de-France\, France
X-APPLE-STRUCTURED-LOCATION;VALUE=URI;X-ADDRESS=1\, boulevard des Cités-Un
 ies\, Lille\, Nord\, 59000\, Hauts-de-France\, France;X-APPLE-RADIUS=100;X
 -TITLE=Lille Grand Palais:geo:0,0
END:VEVENT
BEGIN:VTIMEZONE
TZID:Europe/Paris
X-LIC-LOCATION:Europe/Paris
BEGIN:DAYLIGHT
DTSTART:20260329T030000
TZOFFSETFROM:+0100
TZOFFSETTO:+0200
TZNAME:CEST
END:DAYLIGHT
END:VTIMEZONE
END:VCALENDAR