BEGIN:VCALENDAR
VERSION:2.0
PRODID:-//wp-events-plugin.com//7.2.3.1//EN
TZID:Europe/Paris
X-WR-TIMEZONE:Europe/Paris
BEGIN:VEVENT
UID:0-141@docteurimago.fr
DTSTART;TZID=Europe/Paris:20260528T000000
DTEND;TZID=Europe/Paris:20260529T000000
DTSTAMP:20251023T150647Z
URL:https://docteurimago.fr/services/agenda/ateliers-de-neurologie-diagnos
 tique-de-la-sfnr/
SUMMARY:Ateliers de neurologie diagnostique de la SFNR
DESCRIPTION:La prochaine édition des Ateliers de neurologie diagnostique d
 e la Société française de neuroradiologie (SFNR) se tiendra les 28 et 2
 9 mai 2026 au Mama Shelter de Nice.
CATEGORIES:Congrès
LOCATION:Mama Shelter de Nice\, 21 Boulevard De Riquier\, Nice\, Alpes-Mari
 times\, 06300\, Provence-Alpes-Côte-d'Azur\, France
X-APPLE-STRUCTURED-LOCATION;VALUE=URI;X-ADDRESS=21 Boulevard De Riquier\, N
 ice\, Alpes-Maritimes\, 06300\, Provence-Alpes-Côte-d'Azur\, France;X-APP
 LE-RADIUS=100;X-TITLE=Mama Shelter de Nice:geo:0,0
END:VEVENT
BEGIN:VTIMEZONE
TZID:Europe/Paris
X-LIC-LOCATION:Europe/Paris
BEGIN:DAYLIGHT
DTSTART:20260329T030000
TZOFFSETFROM:+0100
TZOFFSETTO:+0200
TZNAME:CEST
END:DAYLIGHT
END:VTIMEZONE
END:VCALENDAR