BEGIN:VCALENDAR
VERSION:2.0
PRODID:-//wp-events-plugin.com//7.2.3.1//EN
TZID:Europe/Paris
X-WR-TIMEZONE:Europe/Paris
BEGIN:VEVENT
UID:0-85@docteurimago.fr
DTSTART;TZID=Europe/Paris;VALUE=DATE:20240918
DTEND;TZID=Europe/Paris;VALUE=DATE:20240923
DTSTAMP:20240305T104855Z
URL:https://docteurimago.fr/services/agenda/congres-de-la-societe-europeen
 ne-de-neuroradiologie/
SUMMARY:47e Congrès de la Société européenne de neuroradiologie
DESCRIPTION:Le 47e congrès annuel de la Société européenne de neuroradi
 ologie se tiendra du 18 au 22 septembre 2024 à Paris. Les inscriptions so
 nt ouvertes sur le site de l'événement.
CATEGORIES:Congrès
LOCATION:Paris Mariott Rive Gauche\, 17 boulevard Saint-Jacques\, Paris\, 7
 5014\, Île-de-France\, France
X-APPLE-STRUCTURED-LOCATION;VALUE=URI;X-ADDRESS=17 boulevard Saint-Jacques\
 , Paris\, 75014\, Île-de-France\, France;X-APPLE-RADIUS=100;X-TITLE=Paris
  Mariott Rive Gauche:geo:0,0
END:VEVENT
BEGIN:VTIMEZONE
TZID:Europe/Paris
X-LIC-LOCATION:Europe/Paris
BEGIN:DAYLIGHT
DTSTART:20240331T030000
TZOFFSETFROM:+0100
TZOFFSETTO:+0200
TZNAME:CEST
END:DAYLIGHT
END:VTIMEZONE
END:VCALENDAR