BEGIN:VCALENDAR
VERSION:2.0
PRODID:-//wp-events-plugin.com//7.2.3.1//EN
TZID:Europe/Paris
X-WR-TIMEZONE:Europe/Paris
BEGIN:VEVENT
UID:0-113@docteurimago.fr
DTSTART;TZID=America/Chicago;VALUE=DATE:20251130
DTEND;TZID=America/Chicago;VALUE=DATE:20251205
DTSTAMP:20251127T153117Z
URL:https://docteurimago.fr/services/agenda/congres-de-la-societe-nord-ame
 ricaine-de-radiologie-rsna/
SUMMARY:Congrès de la Société nord-américaine de radiologie (RSNA) 2025
DESCRIPTION:La Société nord-américaine de radiologie (RSNA) tiendra son 
 congrès annuel du 30 novembre au 4 décembre 2025. Renseignements et insc
 riptions sur le site de la RSNA.
CATEGORIES:Congrès
LOCATION:McCormick Place\, 2301 S King Dr\, Chicago\, Illinois\, 60616\, É
 tats-Unis
X-APPLE-STRUCTURED-LOCATION;VALUE=URI;X-ADDRESS=2301 S King Dr\, Chicago\, 
 Illinois\, 60616\, États-Unis;X-APPLE-RADIUS=100;X-TITLE=McCormick Place:
 geo:0,0
END:VEVENT
BEGIN:VTIMEZONE
TZID:America/Chicago
X-LIC-LOCATION:America/Chicago
BEGIN:STANDARD
DTSTART:20251102T010000
TZOFFSETFROM:-0500
TZOFFSETTO:-0600
TZNAME:CST
END:STANDARD
END:VTIMEZONE
END:VCALENDAR