BEGIN:VCALENDAR
VERSION:2.0
PRODID:-//wp-events-plugin.com//7.2.3.1//EN
TZID:Europe/Paris
X-WR-TIMEZONE:Europe/Paris
BEGIN:VEVENT
UID:0-101@docteurimago.fr
DTSTART;TZID=Europe/Paris;VALUE=DATE:20241121
DTEND;TZID=Europe/Paris;VALUE=DATE:20241123
DTSTAMP:20241011T130322Z
URL:https://docteurimago.fr/services/agenda/congres-f-ir-e-2024/
SUMMARY:Congrès F.IR.E 2024
DESCRIPTION:Le congrès Future of interventional radiology expert panel 202
 4 se tiendra les 21 et 22 novembre à Marseille (13). Cet événement sera
  consacré aux innovations présentes et futures en radiologie interventio
 nnelle. Programme et inscriptions sur le site officiel.
CATEGORIES:Congrès
LOCATION:MCO Congrès - Villa Gaby\, 285 corniche J.-F. Kennedy \, Marseill
 e\, 13007\, Provence-Alpes-Côte-d'Azur\, France
X-APPLE-STRUCTURED-LOCATION;VALUE=URI;X-ADDRESS=285 corniche J.-F. Kennedy 
 \, Marseille\, 13007\, Provence-Alpes-Côte-d'Azur\, France;X-APPLE-RADIUS
 =100;X-TITLE=MCO Congrès - Villa Gaby:geo:0,0
END:VEVENT
BEGIN:VTIMEZONE
TZID:Europe/Paris
X-LIC-LOCATION:Europe/Paris
BEGIN:STANDARD
DTSTART:20241027T020000
TZOFFSETFROM:+0200
TZOFFSETTO:+0100
TZNAME:CET
END:STANDARD
END:VTIMEZONE
END:VCALENDAR