BEGIN:VCALENDAR
VERSION:2.0
PRODID:-//wp-events-plugin.com//7.2.3.1//EN
TZID:Europe/Paris
X-WR-TIMEZONE:Europe/Paris
BEGIN:VEVENT
UID:0-153@docteurimago.fr
DTSTART;TZID=Europe/Paris;VALUE=DATE:20260521
DTEND;TZID=Europe/Paris;VALUE=DATE:20260523
DTSTAMP:20260302T141853Z
URL:https://docteurimago.fr/services/agenda/congres-rad-2026/
SUMMARY:Congrès RAD 2026
DESCRIPTION:Le congrès Radiologie Aujourd’hui et Demain (RAD) aura lieu
  à Angers les 21 et 22 mai\, avec la thématique « Intelligence artifici
 elle et télé-interprétation». Renseignements et inscriptions sur le si
 te du CERF.
CATEGORIES:Congrès
END:VEVENT
BEGIN:VTIMEZONE
TZID:Europe/Paris
X-LIC-LOCATION:Europe/Paris
BEGIN:DAYLIGHT
DTSTART:20260329T030000
TZOFFSETFROM:+0100
TZOFFSETTO:+0200
TZNAME:CEST
END:DAYLIGHT
END:VTIMEZONE
END:VCALENDAR