BEGIN:VCALENDAR
VERSION:2.0
PRODID:-//wp-events-plugin.com//7.2.3.1//EN
TZID:Europe/Paris
X-WR-TIMEZONE:Europe/Paris
BEGIN:VEVENT
UID:0-128@docteurimago.fr
DTSTART;TZID=Europe/Paris;VALUE=DATE:20250515
DTEND;TZID=Europe/Paris;VALUE=DATE:20250517
DTSTAMP:20250506T142145Z
URL:https://docteurimago.fr/services/agenda/congres-radiologie-aujourdhui-
 et-demain/
SUMMARY:Congrès Radiologie aujourd'hui et demain
DESCRIPTION:La septième édition de l'événement annuel Radiologie aujour
 d'hui et demain (RAD2025)\, organisé par le Collège des enseignants en r
 adiologie de France (CERF) se tiendra les 15 et 16 mai 2025 à Angers (49)
 . Le programme est disponible sur le site du CERF. Les participants seront
  accueillis au CHU d'Angers le 15 mai et au centre des congrès Jean-Monni
 er d'Angers le 16 mai.
CATEGORIES:Congrès
END:VEVENT
BEGIN:VTIMEZONE
TZID:Europe/Paris
X-LIC-LOCATION:Europe/Paris
BEGIN:DAYLIGHT
DTSTART:20250330T030000
TZOFFSETFROM:+0100
TZOFFSETTO:+0200
TZNAME:CEST
END:DAYLIGHT
END:VTIMEZONE
END:VCALENDAR