BEGIN:VCALENDAR
VERSION:2.0
PRODID:-//wp-events-plugin.com//7.2.3.1//EN
TZID:Europe/Paris
X-WR-TIMEZONE:Europe/Paris
BEGIN:VEVENT
UID:0-98@docteurimago.fr
DTSTART;TZID=Europe/Paris;VALUE=DATE:20250327
DTEND;TZID=Europe/Paris;VALUE=DATE:20250329
DTSTAMP:20240927T150908Z
URL:https://docteurimago.fr/services/agenda/congres-sfr-urgences-2025/
SUMMARY:Congrès SFR-urgences 2025
DESCRIPTION:Le congrès SFR-urgences se tiendra les 27 et 28 mars 2025 à P
 oitiers (86). « Cet événement\, organisé par la Société française d
 e radiologie\, vise à enrichir la formation et la collaboration dans le d
 omaine de l’imagerie d’urgence\, un axe majeur et émergent de la SFR 
 »\, expliquent ses organisateurs. Ce congrès se divise en deux parcours 
 distincts : scientifique et managérial\, précisent-ils. Renseignements e
 t inscriptions sur le site officiel.
CATEGORIES:Congrès
LOCATION:Centre de congrès de Poitiers\, 58 boulevard du Grand Cerf\, Poit
 iers\, 86000\, Nouvelle-Aquitaine\, France
X-APPLE-STRUCTURED-LOCATION;VALUE=URI;X-ADDRESS=58 boulevard du Grand Cerf\
 , Poitiers\, 86000\, Nouvelle-Aquitaine\, France;X-APPLE-RADIUS=100;X-TITL
 E=Centre de congrès de Poitiers:geo:0,0
END:VEVENT
BEGIN:VTIMEZONE
TZID:Europe/Paris
X-LIC-LOCATION:Europe/Paris
BEGIN:STANDARD
DTSTART:20241027T020000
TZOFFSETFROM:+0200
TZOFFSETTO:+0100
TZNAME:CET
END:STANDARD
END:VTIMEZONE
END:VCALENDAR