BEGIN:VCALENDAR
VERSION:2.0
PRODID:-//wp-events-plugin.com//7.2.3.1//EN
TZID:Europe/Paris
X-WR-TIMEZONE:Europe/Paris
BEGIN:VEVENT
UID:0-149@docteurimago.fr
DTSTART;TZID=Europe/Paris:20260323T173000
DTEND;TZID=Europe/Paris:20260323T190000
DTSTAMP:20260324T125718Z
URL:https://docteurimago.fr/services/agenda/rdv-de-docteur-imago-comment-l
 es-radiologues-se-preparent-a-larrivee-de-la-drimbox/
SUMMARY:RDV de Docteur Imago : Comment les radiologues se préparent à l'a
 rrivée de la DRIMBox
DESCRIPTION:À l’approche de l’arrivée de la DRIMBox\, les radiologues
  s’organisent pour intégrer ce nouvel outil à leurs pratiques et antic
 iper les évolutions qu’il implique en matière d’échange\, d’accè
 s aux données et de pertinence des examens. À l’occasion d’un nouvea
 u RDV de Docteur Imago\, des professionnels partagent leurs réflexions\, 
 leurs attentes et les premières pistes de préparation sur le terrain.
ATTACH;FMTTYPE=image/jpeg:https://admin.docteurimago.fr/app/uploads/sites/
 2/2026/02/Illustration-Drim-Box.jpg
CATEGORIES:RDV de Docteur Imago
END:VEVENT
BEGIN:VTIMEZONE
TZID:Europe/Paris
X-LIC-LOCATION:Europe/Paris
BEGIN:STANDARD
DTSTART:20251026T020000
TZOFFSETFROM:+0200
TZOFFSETTO:+0100
TZNAME:CET
END:STANDARD
END:VTIMEZONE
END:VCALENDAR