BEGIN:VCALENDAR
VERSION:2.0
PRODID:-//wp-events-plugin.com//7.2.3.1//EN
TZID:Europe/Paris
X-WR-TIMEZONE:Europe/Paris
BEGIN:VEVENT
UID:0-63@docteurimago.fr
DTSTART;TZID=Europe/Paris;VALUE=DATE:20230601
DTEND;TZID=Europe/Paris;VALUE=DATE:20230603
DTSTAMP:20230921T143422Z
URL:https://docteurimago.fr/services/agenda/sifem-2023/
SUMMARY:SIFEM 2023
DESCRIPTION:
CATEGORIES:Congrès
END:VEVENT
BEGIN:VTIMEZONE
TZID:Europe/Paris
X-LIC-LOCATION:Europe/Paris
BEGIN:DAYLIGHT
DTSTART:20230326T030000
TZOFFSETFROM:+0100
TZOFFSETTO:+0200
TZNAME:CEST
END:DAYLIGHT
END:VTIMEZONE
END:VCALENDAR