BEGIN:VCALENDAR
VERSION:2.0
PRODID:-//wp-events-plugin.com//7.2.3.1//EN
TZID:Europe/Paris
X-WR-TIMEZONE:Europe/Paris
BEGIN:VEVENT
UID:0-40@docteurimago.fr
DTSTART;TZID=Europe/Paris:20210401T173000
DTEND;TZID=Europe/Paris:20210401T190000
DTSTAMP:20230928T151452Z
URL:https://docteurimago.fr/services/agenda/webconference-sur-la-nouvelle-
 generation-de-radiologues/
SUMMARY:Webconférence sur la nouvelle génération de radiologues
DESCRIPTION:Une conférence interactive en ligne le 1er avril 2021 de 17 h
  30 à 19 h 00 animée par la rédaction de Docteur Imago avec des invi
 tés experts du domaine
ATTACH;FMTTYPE=image/jpeg:https://admin.docteurimago.fr/app/uploads/sites/
 2/2023/08/DI-RDV2021-web.jpg
CATEGORIES:RDV de Docteur Imago
END:VEVENT
BEGIN:VTIMEZONE
TZID:Europe/Paris
X-LIC-LOCATION:Europe/Paris
BEGIN:DAYLIGHT
DTSTART:20210328T030000
TZOFFSETFROM:+0100
TZOFFSETTO:+0200
TZNAME:CEST
END:DAYLIGHT
END:VTIMEZONE
END:VCALENDAR