BEGIN:VCALENDAR
VERSION:2.0
PRODID:-//wp-events-plugin.com//7.2.3.1//EN
TZID:Europe/Paris
X-WR-TIMEZONE:Europe/Paris
BEGIN:VEVENT
UID:0-39@docteurimago.fr
DTSTART;TZID=Europe/Paris:20201105T170000
DTEND;TZID=Europe/Paris:20201105T190000
DTSTAMP:20230824T115746Z
URL:https://docteurimago.fr/services/agenda/webconference-sur-la-teleradio
 logie/
SUMMARY:Webconférence sur la téléradiologie
DESCRIPTION:Une conférence interactive en ligne le 5 novembre 2020 de 17 
 heures à 19 heures animée par la rédaction de Docteur Imago sur les ac
 tualités en téléradiologie\, avec des invités experts du domaine
ATTACH;FMTTYPE=image/jpeg:https://admin.docteurimago.fr/app/uploads/sites/
 2/2023/08/DI-RDV2020-A41.jpg
CATEGORIES:RDV de Docteur Imago
END:VEVENT
BEGIN:VTIMEZONE
TZID:Europe/Paris
X-LIC-LOCATION:Europe/Paris
BEGIN:STANDARD
DTSTART:20201025T020000
TZOFFSETFROM:+0200
TZOFFSETTO:+0100
TZNAME:CET
END:STANDARD
END:VTIMEZONE
END:VCALENDAR